BEGIN:VCALENDAR
VERSION:2.0
PRODID:-//All Star Gymnastics and Cheer - ECPv6.15.16//NONSGML v1.0//EN
CALSCALE:GREGORIAN
METHOD:PUBLISH
X-WR-CALNAME:All Star Gymnastics and Cheer
X-ORIGINAL-URL:https://allstargymandcheer.com
X-WR-CALDESC:Events for All Star Gymnastics and Cheer
REFRESH-INTERVAL;VALUE=DURATION:PT1H
X-Robots-Tag:noindex
X-PUBLISHED-TTL:PT1H
BEGIN:VTIMEZONE
TZID:UTC
BEGIN:STANDARD
TZOFFSETFROM:+0000
TZOFFSETTO:+0000
TZNAME:UTC
DTSTART:20250101T000000
END:STANDARD
END:VTIMEZONE
BEGIN:VEVENT
DTSTART;TZID=UTC:20260320T010200
DTEND;TZID=UTC:20260327T030400
DTSTAMP:20260422T154810
CREATED:20260311T060609Z
LAST-MODIFIED:20260311T060613Z
UID:10000046-1773968520-1774580640@allstargymandcheer.com
SUMMARY:test
DESCRIPTION:test \n  \n 
URL:https://allstargymandcheer.com/event/test/
CATEGORIES:Upcoming Events
ATTACH;FMTTYPE=image/png:https://allstargymandcheer.com/wp-content/uploads/2026/03/ChatGPT-Image-Feb-27-2026-12_16_42-PM.png
END:VEVENT
END:VCALENDAR